BEGIN:VCALENDAR
VERSION:2.0
PRODID:-//Stichting ADORE - ECPv6.15.20//NONSGML v1.0//EN
CALSCALE:GREGORIAN
METHOD:PUBLISH
X-WR-CALNAME:Stichting ADORE
X-ORIGINAL-URL:https://www.adore.amsterdamumc.nl
X-WR-CALDESC:Evenementen voor Stichting ADORE
REFRESH-INTERVAL;VALUE=DURATION:PT1H
X-Robots-Tag:noindex
X-PUBLISHED-TTL:PT1H
BEGIN:VTIMEZONE
TZID:Europe/Paris
BEGIN:DAYLIGHT
TZOFFSETFROM:+0100
TZOFFSETTO:+0200
TZNAME:CEST
DTSTART:20240331T010000
END:DAYLIGHT
BEGIN:STANDARD
TZOFFSETFROM:+0200
TZOFFSETTO:+0100
TZNAME:CET
DTSTART:20241027T010000
END:STANDARD
BEGIN:DAYLIGHT
TZOFFSETFROM:+0100
TZOFFSETTO:+0200
TZNAME:CEST
DTSTART:20250330T010000
END:DAYLIGHT
BEGIN:STANDARD
TZOFFSETFROM:+0200
TZOFFSETTO:+0100
TZNAME:CET
DTSTART:20251026T010000
END:STANDARD
BEGIN:DAYLIGHT
TZOFFSETFROM:+0100
TZOFFSETTO:+0200
TZNAME:CEST
DTSTART:20260329T010000
END:DAYLIGHT
BEGIN:STANDARD
TZOFFSETFROM:+0200
TZOFFSETTO:+0100
TZNAME:CET
DTSTART:20261025T010000
END:STANDARD
BEGIN:DAYLIGHT
TZOFFSETFROM:+0100
TZOFFSETTO:+0200
TZNAME:CEST
DTSTART:20270328T010000
END:DAYLIGHT
BEGIN:STANDARD
TZOFFSETFROM:+0200
TZOFFSETTO:+0100
TZNAME:CET
DTSTART:20271031T010000
END:STANDARD
END:VTIMEZONE
BEGIN:VEVENT
DTSTART;TZID=Europe/Paris:20260211T120000
DTEND;TZID=Europe/Paris:20260211T180000
DTSTAMP:20260424T003647
CREATED:20260113T081608Z
LAST-MODIFIED:20260113T082029Z
UID:4580-1770811200-1770832800@www.adore.amsterdamumc.nl
SUMMARY:Collaborative workshops NWA ORC 2026
DESCRIPTION:Between 6 February and 17 March 2026\, NWO will be organising collaborative workshops for the twelve themes in the NWA ORC 2026. During the workshops\, you will meet researchers and parties interested in a specific theme and explore opportunities to combine ideas. Participants will gain insight into who is interested in developing a proposal and which consortia are being formed. \nWho is it for?\nThe workshops are open to anyone who wants to contribute to research on one of the twelve themes. Two consecutive workshops will be organised for each theme\, during which you will be brought into contact with other interested parties and supported in combining research ideas and exploring opportunities for collaboration. The meetings contribute to the creation of new and diverse collaborations. \nTo participate in the collaborative workshops\, you must register in advance. This form asks\, among other things\, about your expertise and contribution to the impact of the theme. These registrations form the basis of the workshops and will be shared with the participants in advance. \nGood to know: the intended main applicant must be present at both collaborative workshops on the relevant theme\, or send a substitute. If a substitute participates\, they may replace a maximum of one main applicant at a time. Substitutes must register using the form. \nDates and location\nTwo consecutive workshops will be organised for each of the twelve themes. The meetings will take place in the afternoon in the Beatrix Building\, Jaarbeurs Utrecht. The walk-in lunch will start at 12:00\, followed by the programme at 13:00. The substantive programme will end no later than 17:00\, followed by drinks. \nThe following theme might be of particular interest to Adore researchers:\nThe right balance in immune responses: multidisciplinary insights for regenerative therapies \nRoute: Regenerative medicine: gamechanger on the way to wide application \n\nWorkshop 1: 11 February 2026\nWorkshop 2: 12 March 2026\n\nSign up here to join the collaborative workshops.
URL:https://www.adore.amsterdamumc.nl/event/collaborative-workshops-nwa-orc-2026/
LOCATION:Beatrix Gebouw\, Jaarbeurs Utrecht\, Jaarbeursplein 6\, Utrecht\, 3521 CA
CATEGORIES:External
END:VEVENT
BEGIN:VEVENT
DTSTART;TZID=Europe/Paris:20251217T090000
DTEND;TZID=Europe/Paris:20251217T180000
DTSTAMP:20260424T003647
CREATED:20251003T052710Z
LAST-MODIFIED:20251211T124920Z
UID:4081-1765962000-1765994400@www.adore.amsterdamumc.nl
SUMMARY:Adore Symposium
DESCRIPTION:1st Adore Symposium – December 17\, 2025\nRDC ADORE\, Van der Boechorststraat 6B Amsterdam \nAdore: Integrating Oncology and Neuroscience Research\nWe are delighted to invite you to the 1st Adore Symposium\, taking place on December 17th\, 2025\, at RDC Adore! \nThis day-long event brings together oncology and neuroscience researchers to collaborate on groundbreaking insights at the Onco-Neuro interface. Together\, we strive to accelerate impact for cancer and neurodegenerative diseases. \nA day of cross-pollination and connection\nShowcasing: \n\nAdore’s mission and vision\nKeynote lecture by a leading expert\nPresentations of boundbreaking Onco-Neuro research pairs\nPerspective on Industry alliances\nInteractive workshops\nNetworking opportunities over lunch and reception\n\n\n\n    Final Programme: 1st Adore Symposium\n  \nAdore: Integrating Oncology and Neuroscience Research \n \n\nTime\nSession\nSpeaker(s)\n\n\n09:30 – 10:00\nWalk-in and registration\n\n\n\n10:00 – 10:10\nWelcome\nJort Vijverberg\n\n\n10:10 – 10:20\nAdore’s mission & vision\nChristine de Veij Mestdagh\n\n\n10:20 – 10:40\nFundamental Research Portfolio\nGuus Smit & Maarten Bijlsma\n\n\n10:40 – 11:25\n\n        Keynote: “Trace me if you CAN – Unraveling How Cancer-Associated Neurons Shape the TME and Cancer Progression”\n      \nVera Thiel\n\n\n11:25 – 11:40\nCoffee break\n\n\n\n11:40 – 12:05\nTranslational Research Portfolio: Tracking biologicals with PET\nWillemien Menke – van der Hoeven van Oordt & Elsmarieke van de Giessen\n\n\n12:05 – 12:25\nTranslational Research Portfolio: CRISPR Therapy\nRob Wolthuis & Mark Verheijen\n\n\n12:25 – 12:55\nPanel discussion: Bridging the Gap: Accelerating Healthcare Innovation through Responsible Public-Private Collaboration\n\n        Jort Vijverberg\, Marc Roelofs\, Arjen Brussaard & Maria Themeli \n      \n\n\n13:00 – 14:00\n\n       Lunch & Market with Adore Partner stands and Adore Project Posters\n      \n\n\n\n14:00 – 16:30\n\n        Parallel Workshops:\n        Workshop 1: Bringing interdisciplinarity to fruition\n        Workshop 2: Crash course valorisation\n      \n\n\n\n16:30 – 18:00\nNetworking opportunity with drinks & bites\n\n\n\n\nThis event is fully booked. If you would like to be added to the waiting list\, please contact us as info.adore@amsterdamumc.nl. \nIf you plan to join remotetly\, please use the following Teams link. 
URL:https://www.adore.amsterdamumc.nl/event/adore-symposium/
LOCATION:RDC Adore\, Van der Boechorststraat 6B\, Amsterdam\, 1081 BT\, Netherlands
CATEGORIES:Internal,Online
ATTACH;FMTTYPE=image/jpeg:https://www.adore.amsterdamumc.nl/wp-content/uploads/2025/09/Reni-en-Marianne-scaled.jpg
END:VEVENT
BEGIN:VEVENT
DTSTART;VALUE=DATE:20251014
DTEND;VALUE=DATE:20251017
DTSTAMP:20260424T003647
CREATED:20251002T120828Z
LAST-MODIFIED:20251003T123449Z
UID:4193-1760400000-1760659199@www.adore.amsterdamumc.nl
SUMMARY:Cancer Neuroscience Conference
DESCRIPTION:The nervous system influences cancer in many ways\, and vice versa. This bidirectional crosstalk between both the central and peripheral nervous system and cancer has changed our understanding of malignant diseases throughout the body. Recent seminal discoveries in the emerging field of cancer neuroscience have already led to new therapeutic concepts that target harmful neuro-cancer interactions. \nThe first EACR conference on this exciting and rapidly evolving topic brings together international leaders of the field: to identify the most relevant current insights\, and to develop a roadmap for future preclinical\, translational and clinical research. \nRegistration for this conference has now closed.
URL:https://www.adore.amsterdamumc.nl/event/cancer-neuroscience-conference/
LOCATION:The Euskalduna Conference Centre\, Avda. Abandoibarra\, 4\, Bilbao\, 48011\, Spain
CATEGORIES:External
END:VEVENT
END:VCALENDAR