BEGIN:VCALENDAR
VERSION:2.0
PRODID:-//Stichting ADORE - ECPv6.15.20//NONSGML v1.0//EN
CALSCALE:GREGORIAN
METHOD:PUBLISH
X-ORIGINAL-URL:https://www.adore.amsterdamumc.nl
X-WR-CALDESC:Evenementen voor Stichting ADORE
REFRESH-INTERVAL;VALUE=DURATION:PT1H
X-Robots-Tag:noindex
X-PUBLISHED-TTL:PT1H
BEGIN:VTIMEZONE
TZID:Europe/Paris
BEGIN:DAYLIGHT
TZOFFSETFROM:+0100
TZOFFSETTO:+0200
TZNAME:CEST
DTSTART:20240331T010000
END:DAYLIGHT
BEGIN:STANDARD
TZOFFSETFROM:+0200
TZOFFSETTO:+0100
TZNAME:CET
DTSTART:20241027T010000
END:STANDARD
BEGIN:DAYLIGHT
TZOFFSETFROM:+0100
TZOFFSETTO:+0200
TZNAME:CEST
DTSTART:20250330T010000
END:DAYLIGHT
BEGIN:STANDARD
TZOFFSETFROM:+0200
TZOFFSETTO:+0100
TZNAME:CET
DTSTART:20251026T010000
END:STANDARD
BEGIN:DAYLIGHT
TZOFFSETFROM:+0100
TZOFFSETTO:+0200
TZNAME:CEST
DTSTART:20260329T010000
END:DAYLIGHT
BEGIN:STANDARD
TZOFFSETFROM:+0200
TZOFFSETTO:+0100
TZNAME:CET
DTSTART:20261025T010000
END:STANDARD
BEGIN:DAYLIGHT
TZOFFSETFROM:+0100
TZOFFSETTO:+0200
TZNAME:CEST
DTSTART:20270328T010000
END:DAYLIGHT
BEGIN:STANDARD
TZOFFSETFROM:+0200
TZOFFSETTO:+0100
TZNAME:CET
DTSTART:20271031T010000
END:STANDARD
END:VTIMEZONE
BEGIN:VEVENT
DTSTART;TZID=Europe/Paris:20260414T150000
DTEND;TZID=Europe/Paris:20260414T170000
DTSTAMP:20260424T030456
CREATED:20260313T083552Z
LAST-MODIFIED:20260313T084110Z
UID:4850-1776178800-1776186000@www.adore.amsterdamumc.nl
SUMMARY:Workshop Intellectual Property for Drug Repurposing (hybrid)
DESCRIPTION:Intellectual Property for Drug Repurposing \nDrug repurposing offers major opportunities to accelerate the development of new treatments\, particularly for rare diseases. Intellectual property (IP) can play an important role in determining whether repurposed therapies can be developed in a socially responsible way and ultimately reach patients. \nThis workshop is organised by RARE-NL in collaboration with the Netherlands Patent Office (part of the Ministry of Economic Affairs). The session provides a practical introduction to intellectual property in the context of drug repurposing and socially responsible development of medicines. \nWhat you will learn and what to expect \nThis interactive workshop provides a practical introduction to intellectual property and its role in drug repurposing. Participants will gain insight into: \n• The basic principles of intellectual property and patent protection relevant to drug repurposing\n• How IP and regulatory exclusivities influence development strategies and patient access\n• How second medical use patents and other protection strategies are applied in repurposing\n• How to search and interpret patent information using publicly available databases\n• How IP can be used strategically to support responsible development\, collaborations and follow-up funding \nThe session includes practical examples\, case discussions and opportunities to ask project-specific questions. Part of the workshop will be hands-on; participants attending on site are encouraged to bring a laptop or tablet\, as working with patent databases is not suitable on a smartphone. No prior IP experience is required. \nWhy RARE-NL organises this workshop \nRARE-NL supports researchers and other project teams who aim to translate academic and clinical repurposing research into real-world patient access under socially responsible terms. Within drug repurposing\, intellectual property is often approached mainly from a legal or commercial perspective. However\, IP can also be used as a strategic tool to support responsible development\, enable sustainable licensing approaches and improve long-term accessibility of therapies for patients. \nUnderstanding IP early in a development trajectory helps projects make informed choices\, position themselves more strongly for collaborations and follow-up funding\, and ultimately unlock the full potential of drug repurposing. \nPractical information \nDate: 14 April 2026\nSpeaker: Dr. Britta Helwig\, Adviseur Intellectueel Eigendom | Onderzoek & Valorisatie (Netherlands Patent Office)\nTime: 15:00 – 17:00\nFormat: Hybrid (on site at Radboudumc and online participation possible)\nLocation (on site): Radboudumc Experience Center\, M260.-1.102\, Waalbrug A\, route 7 \nRegister here: Registration for Workshop Intellectual Property for Drug Repurposing – RARE-NL
URL:https://www.adore.amsterdamumc.nl/event/workshop-intellectual-property-for-drug-repurposing/
LOCATION:Radboudumc Experience Center\, Geert Grooteplein 15\, Nijmegen\, 6525 EZ
CATEGORIES:External
END:VEVENT
BEGIN:VEVENT
DTSTART;VALUE=DATE:20260407
DTEND;VALUE=DATE:20260408
DTSTAMP:20260424T030456
CREATED:20260212T134737Z
LAST-MODIFIED:20260212T134737Z
UID:4819-1775520000-1775606399@www.adore.amsterdamumc.nl
SUMMARY:Drug Repurposing Venture Challenge | FAST
DESCRIPTION:Vanaf 12 februari is de inschrijving voor de tweede editie van de Drug Repurposing Venture Challenge geopend. Het doel is om in 3 maanden een wetenschappelijke doorbraak op het gebied van drug repurposing te ontwikkelen tot een solide plan om het medicijn op de markt en de patiënt te brengen. Tijdens deze challenge ontwikkelen onderzoekers onder begeleiding een venture plan. De Venture Challenge is bedoeld voor onderzoekers en/of beginnende ondernemers in de Life Sciences. Teams kunnen zich tot 7 april aanmelden. \nVan idee naar patiënt\nDrug repurposing is een van de speerpunten van FAST en ZonMw (Goed Gebruik Geneesmiddelen). Drug repurposing heeft de belofte van snellere en betaalbare therapieontwikkeling\, onder andere voor (zeldzame) ziekten waar nog geen behandelingen voor zijn. Om repurposed medicijnen bij de patiënt te krijgen op een maatschappelijk verantwoorde wijze faciliteren ZonMw en FAST verschillende initiatieven. Zo maakt ZonMw bijvoorbeeld de financieringsronde drug repurposing mogelijk en is consortiumpartner in het Europese drug repurposing initiatief REMEDi4ALL. \nMet deze Venture Challenge willen ZonMw en FAST in de praktijk aantonen dat drug repurposing de belofte van ‘sneller\, betaalbaarder en beschikbaar voor de patiënt’ kan waarmaken op een maatschappelijk verantwoorde manier. Dit gebeurt door te ondernemen op basis van de principes van maatschappelijk verantwoord licentiëren. \nWat houdt de Drug Repurposing Venture Challenge in\nExperts\, uit onder andere de industrie\, dagen in deze Venture Challenge deelnemers uit om aan de hand van een levensvatbare commerciële strategie onder begeleiding een drug repurposing idee op een maatschappelijk verantwoorde wijze bij de patiënt te krijgen. \nDe Venture Challenge bestaat uit twee 3-daagse bootcamps\, coachingsessies\, een finaledag en een prijsuitreiking. De begeleiding van de teams is in handen van GameChanger Challenge BV\, die bestaat uit een team van ervaren ondernemers. Na het tot stand komen van het venture plan beslist een jury\, bestaande uit doorgewinterde ondernemers en investeerders\, wie het prijzengeld van € 20.000\,- wint\, die besteed moet worden aan de doorontwikkeling van drug repurposing concepten. \nVoor wie\nDe Drug Repurposing Venture Challenge is bedoeld voor onderzoekers en/of beginnende ondernemers in de Life Sciences die een spin-off willen creëren. Het programma richt zich specifiek op ‘repurposing’ van farmaceutische producten. Het gaat hier om bestaande medicijnen die worden onderzocht op effectiviteit voor een veelbelovende nieuwe indicatie waarvoor het middel (nog) niet is geregistreerd. \nHet team dient gezamenlijk het volledige traject te doorlopen en alle bijeenkomsten bij te wonen. Ook wordt tijd gevraagd voor de coachingsessies en het uitwerken van het venture plan. Deze tijdsinvestering vindt plaats tussen juni tot en met oktober 2026. \nAanmelden en selectie\nAanmelden kan tot 7 april 2026 voor 14:00 uur en verloopt via het registratieformulier. Uit de aanmeldingen vindt een selectie plaats van de teams die het beste aansluiten op het beoogde programma. Er kunnen maximaal 6 teams deelnemen. \nDeelnemen aan de Drug Repurposing Venture Challenge kan met een team van 3 tot 4 personen\, De kosten voor deelname aan de Drug Repurposing Venture Challenge zijn € 2000\,- per team van 3 (plus € 500\,- voor 1 extra teamlid). \nMeer informatie\nUitgebreide informatie over de Drug Repurposing Venture Challenge\, de criteria en het tijdpad is te vinden op deze webpagina.
URL:https://www.adore.amsterdamumc.nl/event/drug-repurposing-venture-challenge-fast/
CATEGORIES:External
END:VEVENT
BEGIN:VEVENT
DTSTART;TZID=Europe/Paris:20260402T130000
DTEND;TZID=Europe/Paris:20260402T180000
DTSTAMP:20260424T030456
CREATED:20260123T085534Z
LAST-MODIFIED:20260123T085534Z
UID:4658-1775134800-1775152800@www.adore.amsterdamumc.nl
SUMMARY:Create the Future 2026: Emerging technologies Shaping the Future of work
DESCRIPTION:Create the Future is back.\nOn Thursday\, April 2nd\, from 1:00 to 6:00 PM\, AIMMS VU is organizing together with nlmtd hosts Create the Future 2026. This annual event brings together leaders and experts to explore how emerging technologies are reshaping the future of work. \nThis year’s focus: Emerging technologies Shaping the Future of work Topics include robotics\, AI in healthcare and large-scale transformations in public infrastructure\, explored through sharp keynotes and in-depth expert sessions. We will close the afternoon by connecting over drinks. \nLocation\nVU Amsterdam – NU Building \nWe can already share a first glimpse of the program\, including speakers such as Harald Tepper\, CSO at Philips and Sandjai Bhulai\, Professor of Business Analytics at Vrije Universiteit Amsterdam and co-founder of PersonalAIze\, explores how AI and data are transforming healthcare. \nExpert sessions will dive into topics like Public Infrastructure in Transition\, robotics in complex systems\, Collaborative Innovation Programs\, and the role of AI and data in transforming healthcare. \nInterested in joining?\nLet us know by clicking “Express your interest” and leaving your details. We’ll make sure you’re among the first to receive the official invitation. \nCurious what Create the Future looks like?\nWatch last year’s aftermovie and get a feel for the conversations\, energy and people: click here.  \nIn the meantime\, you can explore the event page for an overview of the theme and what to expect. We’ll share more updates soon\, including details on the speakers and expert sessions. \nSee you there? \nAIMMS VU and Team Create the Future
URL:https://www.adore.amsterdamumc.nl/event/create-the-future-2026-emerging-technologies-shaping-the-future-of-work/
LOCATION:VU – NU Building\, De Boelelaan 1111\, Amsterdam\, 1081 HV\, Netherlands
CATEGORIES:External
END:VEVENT
BEGIN:VEVENT
DTSTART;TZID=Europe/Paris:20260312T093000
DTEND;TZID=Europe/Paris:20260312T123000
DTSTAMP:20260424T030456
CREATED:20260130T094618Z
LAST-MODIFIED:20260205T133626Z
UID:4739-1773307800-1773318600@www.adore.amsterdamumc.nl
SUMMARY:Learning Path Valorisation and Impact | IXA
DESCRIPTION:Have you ever thought about the impact your research or idea could have outside academia? IXA offers a new learning track on valorisation and impact. The goal? To inspire you and make you aware of the power of creating value and impact through your research\, and how to actually achieve that impact. \nFor who?\nAre you a researcher at one of Amsterdam’s knowledge institutions (UvA\, VU\, Amsterdam UMC and HvA) and want to learn how to create impact with your idea or research? Then join this program. The learning program is particularly suitable for PhD students and postdocs who want to learn how to valorise their research. \nThe content of the learning path valorisation and impact\nThe learning path consists of 3 workshops in 2 modules interspersed with online information. \nModule 1: Impact through research: in-depth look at valorisation\nIn this half-day workshop\, we will explore what impact means to you\, how it can benefit your research\, and how to take the first steps toward creating impact. \nDuration: one session of 3 hours\nTime investment: approximately 6 hours (including homework assignments)\nLocation: The knowledge institutions will alternate hosting the sessions. \nModule 2: Impact through research: focusing on your own practice\nIn this module\, you will work on your own idea. During two interactive half-day sessions\, you will further develop and concretise your idea. \nDuration: 2 times a 3-hour session\nTime investment: approximately 12 hours (including homework assignments)\nLocation: The knowledge institutions will alternate hosting the sessions. \nThroughout the course\, the focus is on translating your research into an idea that can evolve into a service\, product or way of public outreach. \nStart and time schedule\nIXA hosts the Valorisation and Impact Learning Path workshops several times a year. \nThe workshops\nThe workshops are structured so that you can attend them sequentially\, ideally completing the “Indepth” workshop before attending the “Focus on your own practice” session. Register for all three workshops in one cohort. \nAll workshops are from 9:30-12:30 \nCohort 4\nModule 1 – Thursday\, 12 March\, 2026 @ UvA Campus\nModule 2 – Thursday\, 26 March\, 2026 @ UvA Campus – first workshop\nModule 2 – Thursday\, 16 April\, 2026 @ UvA – second workshop \nCohort 5\nModule 1 – Tuesday\, 12 May\, 2026 @ VU Campus\nModule 2 – Tuesday\, 26 May\, 2026 @ VU Campus – first workshop\nModule 2 – Tuesday\, 16 June\, 2026 @ VU Campus – second workshop \nFor an up-to-date schedule please view the IXA website. \nApplication procedure \nCosts\nParticipation is free of charge. Registration is required\, as is cancellation if you cannot attend. \nCertificate and credits\nWould you like a certificate of participation? You can request one after completing the learning path. Credits for this learning path: 1 ECT. \nApplication procedure\nInterested in participating? Register!
URL:https://www.adore.amsterdamumc.nl/event/learning-path-valorisation-and-impact-edition-fall-winter-2025-2026-1-ect/
CATEGORIES:External
END:VEVENT
BEGIN:VEVENT
DTSTART;TZID=Europe/Paris:20260309T080000
DTEND;TZID=Europe/Paris:20260325T170000
DTSTAMP:20260424T030456
CREATED:20251016T085807Z
LAST-MODIFIED:20251016T085807Z
UID:4354-1773043200-1774458000@www.adore.amsterdamumc.nl
SUMMARY:Methods in Cancer Neuroscience
DESCRIPTION:Course\nCancer neuroscience is a growing field that incorporates the study of malignancies\, the nerves that infiltrate them and neuronal influences on disease initiation\, its progression and the overall state of the host. The molecular\, biological\, immunological and neuronal understanding of these complex interactions requires multi-disciplinary approaches and methodologies that have historically been relegated to non-cancer fields. The Methods in Cancer Neuroscience is a short\, intensive sixteen day hands-on course that will provide training in techniques necessary to define the complex influence of nerves in cancer. These techniques will span the areas of modelling cancer through orthotopic or systemic inoculation\, viral injections and fiber optic placement for optogenetic\, cranial window implantation and two photon video-microscopy\, virus injections for neuronal tract tracing\, behavioral assays\, primary neuron and glia isolation and co-culture with cancer cells/ immune cell\, and stable cell line generation\, in vivo electrophysiology and data analysis\, immunolabeling of co-cultures\, functional assays (i.e.\, neurite outgrowth\, clonogenic assays\, and others)\, mouse brain organotypic cultures\, advanced analysis of calcium reporters\, scRNA-seq and data analysis\, among other techniques. Lectures and techniques will be taught by the leaders in the field. Trainees will also benefit from interacting with and establishing fruitful collaborations with instructors. \n\nTechniques to be Taught\nCranial window implantation and 2P video microscopy\nViral injections & fiber optic placement\nViral injection for tracing\nIn vivo electrophysiology and data analysis\nOptogenetics\nFunctional assays\nIn vitro calcium reporter test\nImage analysis: fixed and dynamic data\nFrom the brain to the 10X: tissue preparation and QC\nSingle cell spatial omics in cancer-neuroscience\nCo-cultures neurons and immune system\nGeneration of stable cell lines\nTissue clearing\nSchwan cell isolation and culture\nInoculation of cancer cells\nBLI analysis and tissue processing of CNS tumors\nBrain organotypic cultures\nBehavioral tests\nDRGs isolation and co-culture with cancer cells\nImmunolabelling of co-cultures\n\nMulti-electrode array (MEA) \n\n\n\nApplication Deadline\nJanuary 9\, 2026 \nDuration\nMarch 9th-March 25th \nFor more information and registration click here.
URL:https://www.adore.amsterdamumc.nl/event/methods-in-cancer-neuroscience/
LOCATION:CSHL\, 1 Bungtown Rd\, Cold Spring Harbor\, NY\, 11724\, United States
CATEGORIES:External
END:VEVENT
BEGIN:VEVENT
DTSTART;TZID=Europe/Paris:20260212T143000
DTEND;TZID=Europe/Paris:20260212T180000
DTSTAMP:20260424T030456
CREATED:20260123T091313Z
LAST-MODIFIED:20260123T101142Z
UID:4665-1770906600-1770919200@www.adore.amsterdamumc.nl
SUMMARY:DCVA & RegMed XB Community Event
DESCRIPTION:For academic researchers and healthcare innovators interested in valorization\, entrepreneurship\, and accelerating from lab to patient. \nRegMed XB is pleased to invite you to the next Dutch CardioVascular Alliance & RegMed XB Community Event. Mark your calendar:\n📅 Date: 12 February 2026\n📍Location: Grand Hotel Karel V\, Utrecht \nProgram \n\n14:30-15:00 Walk in & registration\n15:00-16:45 Plenary program including two keynotes by academic founders on their entrepreneurial journey:\n\nDr. René van Es\, founder & CSO\, Cordys Analytics and Associate Professor\, UMC Utrecht\nDr. Stefan Braam\, founder & CTO\, Ncardia and Cellistic\nPitches from promising startup teams\n\n\n16:45-17:00 Farewell outgoing DCVA managing director (Prof. Jolien Roos-Hesselink) and welcome of the new DCVA managing director (Prof. Eric Boersma)\n17:00-18:00 Networking drinks
URL:https://www.adore.amsterdamumc.nl/event/dcva-regmed-xb-community-event/
LOCATION:Grant Hotel Karel V\, Geertebolwerk 1\, Utrecht\, 3511 XA\, Netherlands
CATEGORIES:External
END:VEVENT
BEGIN:VEVENT
DTSTART;TZID=Europe/Paris:20260211T120000
DTEND;TZID=Europe/Paris:20260211T180000
DTSTAMP:20260424T030456
CREATED:20260113T081608Z
LAST-MODIFIED:20260113T082029Z
UID:4580-1770811200-1770832800@www.adore.amsterdamumc.nl
SUMMARY:Collaborative workshops NWA ORC 2026
DESCRIPTION:Between 6 February and 17 March 2026\, NWO will be organising collaborative workshops for the twelve themes in the NWA ORC 2026. During the workshops\, you will meet researchers and parties interested in a specific theme and explore opportunities to combine ideas. Participants will gain insight into who is interested in developing a proposal and which consortia are being formed. \nWho is it for?\nThe workshops are open to anyone who wants to contribute to research on one of the twelve themes. Two consecutive workshops will be organised for each theme\, during which you will be brought into contact with other interested parties and supported in combining research ideas and exploring opportunities for collaboration. The meetings contribute to the creation of new and diverse collaborations. \nTo participate in the collaborative workshops\, you must register in advance. This form asks\, among other things\, about your expertise and contribution to the impact of the theme. These registrations form the basis of the workshops and will be shared with the participants in advance. \nGood to know: the intended main applicant must be present at both collaborative workshops on the relevant theme\, or send a substitute. If a substitute participates\, they may replace a maximum of one main applicant at a time. Substitutes must register using the form. \nDates and location\nTwo consecutive workshops will be organised for each of the twelve themes. The meetings will take place in the afternoon in the Beatrix Building\, Jaarbeurs Utrecht. The walk-in lunch will start at 12:00\, followed by the programme at 13:00. The substantive programme will end no later than 17:00\, followed by drinks. \nThe following theme might be of particular interest to Adore researchers:\nThe right balance in immune responses: multidisciplinary insights for regenerative therapies \nRoute: Regenerative medicine: gamechanger on the way to wide application \n\nWorkshop 1: 11 February 2026\nWorkshop 2: 12 March 2026\n\nSign up here to join the collaborative workshops.
URL:https://www.adore.amsterdamumc.nl/event/collaborative-workshops-nwa-orc-2026/
LOCATION:Beatrix Gebouw\, Jaarbeurs Utrecht\, Jaarbeursplein 6\, Utrecht\, 3521 CA
CATEGORIES:External
END:VEVENT
BEGIN:VEVENT
DTSTART;VALUE=DATE:20251014
DTEND;VALUE=DATE:20251017
DTSTAMP:20260424T030456
CREATED:20251002T120828Z
LAST-MODIFIED:20251003T123449Z
UID:4193-1760400000-1760659199@www.adore.amsterdamumc.nl
SUMMARY:Cancer Neuroscience Conference
DESCRIPTION:The nervous system influences cancer in many ways\, and vice versa. This bidirectional crosstalk between both the central and peripheral nervous system and cancer has changed our understanding of malignant diseases throughout the body. Recent seminal discoveries in the emerging field of cancer neuroscience have already led to new therapeutic concepts that target harmful neuro-cancer interactions. \nThe first EACR conference on this exciting and rapidly evolving topic brings together international leaders of the field: to identify the most relevant current insights\, and to develop a roadmap for future preclinical\, translational and clinical research. \nRegistration for this conference has now closed.
URL:https://www.adore.amsterdamumc.nl/event/cancer-neuroscience-conference/
LOCATION:The Euskalduna Conference Centre\, Avda. Abandoibarra\, 4\, Bilbao\, 48011\, Spain
CATEGORIES:External
END:VEVENT
END:VCALENDAR